BEGIN:VCALENDAR
VERSION:2.0
PRODID:-//Cleveland Township - ECPv6.15.20//NONSGML v1.0//EN
CALSCALE:GREGORIAN
METHOD:PUBLISH
X-ORIGINAL-URL:https://clevelandtownship.com
X-WR-CALDESC:Events for Cleveland Township
REFRESH-INTERVAL;VALUE=DURATION:PT1H
X-Robots-Tag:noindex
X-PUBLISHED-TTL:PT1H
BEGIN:VTIMEZONE
TZID:America/Chicago
BEGIN:DAYLIGHT
TZOFFSETFROM:-0600
TZOFFSETTO:-0500
TZNAME:CDT
DTSTART:20250309T080000
END:DAYLIGHT
BEGIN:STANDARD
TZOFFSETFROM:-0500
TZOFFSETTO:-0600
TZNAME:CST
DTSTART:20251102T070000
END:STANDARD
BEGIN:DAYLIGHT
TZOFFSETFROM:-0600
TZOFFSETTO:-0500
TZNAME:CDT
DTSTART:20260308T080000
END:DAYLIGHT
BEGIN:STANDARD
TZOFFSETFROM:-0500
TZOFFSETTO:-0600
TZNAME:CST
DTSTART:20261101T070000
END:STANDARD
BEGIN:DAYLIGHT
TZOFFSETFROM:-0600
TZOFFSETTO:-0500
TZNAME:CDT
DTSTART:20270314T080000
END:DAYLIGHT
BEGIN:STANDARD
TZOFFSETFROM:-0500
TZOFFSETTO:-0600
TZNAME:CST
DTSTART:20271107T070000
END:STANDARD
END:VTIMEZONE
BEGIN:VEVENT
DTSTART;VALUE=DATE:20260401
DTEND;VALUE=DATE:20260402
DTSTAMP:20260423T104222
CREATED:20260331T045807Z
LAST-MODIFIED:20260331T045807Z
UID:1480-1775001600-1775087999@clevelandtownship.com
SUMMARY:SPECIAL MEETING 9am
DESCRIPTION:TOWN OF CLEVELAND\nSPECIAL MEETING\nAPRIL 1\, 2026 9 AM \nA SPECIAL MEETING WILL BE HELD AT THE TOWN HALL\nAT 9 AM ON WEDNESDAY APRIL 1\, 2026 \nAGENDA \nACTION ON GRANT APPLICATION FOR MONEY TO REPLACE LARGE CULVERTS IN THE TOWNSHIP \nThe grant money is available through the LSSIP program\nLocal Small Structures (Bridges\, Culverts) Improvement Program
URL:https://clevelandtownship.com/event/special-meeting-9am/
END:VEVENT
END:VCALENDAR