BEGIN:VCALENDAR
VERSION:2.0
PRODID:-//Cleveland Township - ECPv6.15.20//NONSGML v1.0//EN
CALSCALE:GREGORIAN
METHOD:PUBLISH
X-WR-CALNAME:Cleveland Township
X-ORIGINAL-URL:https://clevelandtownship.com
X-WR-CALDESC:Events for Cleveland Township
REFRESH-INTERVAL;VALUE=DURATION:PT1H
X-Robots-Tag:noindex
X-PUBLISHED-TTL:PT1H
BEGIN:VTIMEZONE
TZID:America/Chicago
BEGIN:DAYLIGHT
TZOFFSETFROM:-0600
TZOFFSETTO:-0500
TZNAME:CDT
DTSTART:20250309T080000
END:DAYLIGHT
BEGIN:STANDARD
TZOFFSETFROM:-0500
TZOFFSETTO:-0600
TZNAME:CST
DTSTART:20251102T070000
END:STANDARD
BEGIN:DAYLIGHT
TZOFFSETFROM:-0600
TZOFFSETTO:-0500
TZNAME:CDT
DTSTART:20260308T080000
END:DAYLIGHT
BEGIN:STANDARD
TZOFFSETFROM:-0500
TZOFFSETTO:-0600
TZNAME:CST
DTSTART:20261101T070000
END:STANDARD
BEGIN:DAYLIGHT
TZOFFSETFROM:-0600
TZOFFSETTO:-0500
TZNAME:CDT
DTSTART:20270314T080000
END:DAYLIGHT
BEGIN:STANDARD
TZOFFSETFROM:-0500
TZOFFSETTO:-0600
TZNAME:CST
DTSTART:20271107T070000
END:STANDARD
END:VTIMEZONE
BEGIN:VEVENT
DTSTART;VALUE=DATE:20260309
DTEND;VALUE=DATE:20260310
DTSTAMP:20260423T173851
CREATED:20260225T200153Z
LAST-MODIFIED:20260225T200153Z
UID:1457-1773014400-1773100799@clevelandtownship.com
SUMMARY:Monthly Meeting 6 pm (Note time change March only)
DESCRIPTION:TOWN OF CLEVELAND\nMONTHLY MEETING\nMonday March 9\, 2026 at 6 pm (Note time change March only)\nTown Hall (20470 St Hwy 64) Cornell\, WI \nAGENDA:\nMinutes \nReports\nTreasurer Report\nRoads/Machinery Report \nDiscussion & Possible Action on the following:\nAdopt Emergency Operations Plan\nCompensation for Town Employees\nWork Hours for Patrolman\nPhone Purchase for Hall\nLarge Culvert Replacement\nBartender Application\nConstable Vacancy\nAssessor Contract\nPayment of Bills\nCorrespondence\nPublic Input
URL:https://clevelandtownship.com/event/monthly-meeting-6-pm-note-time-change-march-only/
END:VEVENT
BEGIN:VEVENT
DTSTART;VALUE=DATE:20260401
DTEND;VALUE=DATE:20260402
DTSTAMP:20260423T173851
CREATED:20260331T045807Z
LAST-MODIFIED:20260331T045807Z
UID:1480-1775001600-1775087999@clevelandtownship.com
SUMMARY:SPECIAL MEETING 9am
DESCRIPTION:TOWN OF CLEVELAND\nSPECIAL MEETING\nAPRIL 1\, 2026 9 AM \nA SPECIAL MEETING WILL BE HELD AT THE TOWN HALL\nAT 9 AM ON WEDNESDAY APRIL 1\, 2026 \nAGENDA \nACTION ON GRANT APPLICATION FOR MONEY TO REPLACE LARGE CULVERTS IN THE TOWNSHIP \nThe grant money is available through the LSSIP program\nLocal Small Structures (Bridges\, Culverts) Improvement Program
URL:https://clevelandtownship.com/event/special-meeting-9am/
END:VEVENT
BEGIN:VEVENT
DTSTART;VALUE=DATE:20260407
DTEND;VALUE=DATE:20260408
DTSTAMP:20260423T173851
CREATED:20260325T031129Z
LAST-MODIFIED:20260325T031129Z
UID:1466-1775520000-1775606399@clevelandtownship.com
SUMMARY:Election  7am - 8pm
DESCRIPTION:
URL:https://clevelandtownship.com/event/election-7am-8pm/
END:VEVENT
BEGIN:VEVENT
DTSTART;VALUE=DATE:20260408
DTEND;VALUE=DATE:20260409
DTSTAMP:20260423T173851
CREATED:20260325T031221Z
LAST-MODIFIED:20260406T005710Z
UID:1468-1775606400-1775692799@clevelandtownship.com
SUMMARY:Plan Commission  6pm
DESCRIPTION:TOWN OF CLEVELAND \nPLAN COMMISSION MEETING \nWednesday\, APRIL 8\, 2026   6 PM   \nTOWN HALL\, 20470 STATE HIGHWAY 64\,   CORNELL\,  WI \nAgenda: \nMark Hetke  Application \nPublic Input
URL:https://clevelandtownship.com/event/plan-commission-6pm/
END:VEVENT
BEGIN:VEVENT
DTSTART;VALUE=DATE:20260413
DTEND;VALUE=DATE:20260414
DTSTAMP:20260423T173851
CREATED:20260325T031344Z
LAST-MODIFIED:20260325T031344Z
UID:1470-1776038400-1776124799@clevelandtownship.com
SUMMARY:Monthly Board Meeting 7pm
DESCRIPTION:
URL:https://clevelandtownship.com/event/monthly-board-meeting-7pm/
END:VEVENT
BEGIN:VEVENT
DTSTART;VALUE=DATE:20260413
DTEND;VALUE=DATE:20260414
DTSTAMP:20260423T173851
CREATED:20260410T025251Z
LAST-MODIFIED:20260410T025251Z
UID:1486-1776038400-1776124799@clevelandtownship.com
SUMMARY:Special Meeting 9am
DESCRIPTION:TOWN OF CLEVELAND \nSPECIAL MEETING APRIL 13 9 AM \nThe Town Board will meet at the town hall on Monday\,\nApril 13 at 9 AM. \nLeaving the town hall at to do the spring road inspection. \nFor questions on approximate time for various locations within the town\, please call Chairman\, MIKE BEIGHLEY AT 715-530-0769
URL:https://clevelandtownship.com/event/special-meeting-9am-2/
END:VEVENT
BEGIN:VEVENT
DTSTART;VALUE=DATE:20260413
DTEND;VALUE=DATE:20260414
DTSTAMP:20260423T173851
CREATED:20260410T025517Z
LAST-MODIFIED:20260410T025517Z
UID:1488-1776038400-1776124799@clevelandtownship.com
SUMMARY:Monthly Meeting 7pm
DESCRIPTION:TOWN OF CLEVELAND\nMONTHLY MEETING\nMonday April 13\, 2026 at 7 pm\nTown Hall (20470 St Hwy 64) Cornell\, WI \nAGENDA:\nMinutes \nReports\nTreasurer Report\nRoads/Machinery Report\nLarge Culvert Replacement\nAnnual Meeting – April 21\, 2026 \nDiscussion & Possible Action on the following:\nLand Division – M Hetke\nCompensation for Town Employees\nRoad Inspection\nPermission to Request Road Work Bids\nSet Date for Board of Review\nFinish Grade Lawn at Hall\nLawn Care\nSet Meeting Date with Garbage Haulers\nPayment of Bills\nCorrespondence\nPublic Input
URL:https://clevelandtownship.com/event/monthly-meeting-7pm/
END:VEVENT
BEGIN:VEVENT
DTSTART;VALUE=DATE:20260421
DTEND;VALUE=DATE:20260422
DTSTAMP:20260423T173851
CREATED:20260325T031447Z
LAST-MODIFIED:20260325T031447Z
UID:1472-1776729600-1776815999@clevelandtownship.com
SUMMARY:Annual Meeting 7pm
DESCRIPTION:
URL:https://clevelandtownship.com/event/annual-meeting-7pm/
END:VEVENT
BEGIN:VEVENT
DTSTART;VALUE=DATE:20260504
DTEND;VALUE=DATE:20260505
DTSTAMP:20260423T173851
CREATED:20260325T031520Z
LAST-MODIFIED:20260325T031520Z
UID:1474-1777852800-1777939199@clevelandtownship.com
SUMMARY:Open Book  3-5pm
DESCRIPTION:
URL:https://clevelandtownship.com/event/open-book-3-5pm/
END:VEVENT
BEGIN:VEVENT
DTSTART;VALUE=DATE:20260511
DTEND;VALUE=DATE:20260512
DTSTAMP:20260423T173851
CREATED:20260325T031553Z
LAST-MODIFIED:20260325T031553Z
UID:1476-1778457600-1778543999@clevelandtownship.com
SUMMARY:Monthly board Meeting 1pm
DESCRIPTION:
URL:https://clevelandtownship.com/event/monthly-board-meeting-1pm/
END:VEVENT
BEGIN:VEVENT
DTSTART;VALUE=DATE:20260511
DTEND;VALUE=DATE:20260512
DTSTAMP:20260423T173851
CREATED:20260325T031624Z
LAST-MODIFIED:20260325T031624Z
UID:1478-1778457600-1778543999@clevelandtownship.com
SUMMARY:Board of Review  3-5pm
DESCRIPTION:
URL:https://clevelandtownship.com/event/board-of-review-3-5pm/
END:VEVENT
END:VCALENDAR